BEGIN:VCALENDAR
VERSION:2.0
PRODID:-//hacksw/handcal//NONSGML v1.0//EN
BEGIN:VEVENT
SUMMARY:Tour de l'estuaire
UID:f8b7a1f8-5646-4650-927b-9949b80d6db8
DTSTART:20260606T220000Z
DTEND:20260607T220000Z
LOCATION:Localisation   
CATEGORIES:Sportif
STATUS:
URL;VALUE=URI:https://www.cycloclubmornacseudre.com/evenements/2026/06/07/tour-de-lestuaire-2440060
END:VEVENT
END:VCALENDAR
